BEGIN:VCALENDAR
VERSION:2.0
PRODID:-//Knipnäs Gård - ECPv6.15.20//NONSGML v1.0//EN
CALSCALE:GREGORIAN
METHOD:PUBLISH
X-ORIGINAL-URL:https://knipnas.fi
X-WR-CALDESC:Tapahtumat Knipnäs Gård
REFRESH-INTERVAL;VALUE=DURATION:PT1H
X-Robots-Tag:noindex
X-PUBLISHED-TTL:PT1H
BEGIN:VTIMEZONE
TZID:Europe/Helsinki
BEGIN:DAYLIGHT
TZOFFSETFROM:+0200
TZOFFSETTO:+0300
TZNAME:EEST
DTSTART:20250330T010000
END:DAYLIGHT
BEGIN:STANDARD
TZOFFSETFROM:+0300
TZOFFSETTO:+0200
TZNAME:EET
DTSTART:20251026T010000
END:STANDARD
BEGIN:DAYLIGHT
TZOFFSETFROM:+0200
TZOFFSETTO:+0300
TZNAME:EEST
DTSTART:20260329T010000
END:DAYLIGHT
BEGIN:STANDARD
TZOFFSETFROM:+0300
TZOFFSETTO:+0200
TZNAME:EET
DTSTART:20261025T010000
END:STANDARD
BEGIN:DAYLIGHT
TZOFFSETFROM:+0200
TZOFFSETTO:+0300
TZNAME:EEST
DTSTART:20270328T010000
END:DAYLIGHT
BEGIN:STANDARD
TZOFFSETFROM:+0300
TZOFFSETTO:+0200
TZNAME:EET
DTSTART:20271031T010000
END:STANDARD
END:VTIMEZONE
BEGIN:VEVENT
DTSTART;TZID=Europe/Helsinki:20260210T180000
DTEND;TZID=Europe/Helsinki:20260526T193000
DTSTAMP:20260421T150023
CREATED:20260206T130844Z
LAST-MODIFIED:20260403T084043Z
UID:16989-1770746400-1779823800@knipnas.fi
SUMMARY:Kundaliinijooga tiistaisin
DESCRIPTION:Kundalinijoga / Kundaliinijooga / Kundalini Yoga  \n\n\n\nTisdagar / Tuesdays / Tiistaisin klo 18–19:30 \n\n\n\nVarmt välkommen med på Kundalinijoga \n\n\n\nKänner du att din energinivå är låg eller att du är stressad? Kundalinijoga är ett jättebra verktyg för stresshantering och för att få mer energi\, samtidigt som man hittar lugnet. Det är inte svårt eller konstigt. Vi gör övningar tillsammans och var och en enligt egen förmåga.  \n\n\n\nKundaliniyoga stärker nervsystemet\, stöder matsmältningen och balanserar hormonsystemet. Den frigör både fysiska och mentala blockeringar\, ökar styrka och flexibilitet samt ger ett mer positivt perspektiv på livet. Mer energi\, mindre stress och bättre sömn. Ingen tidigare erfarenhet krävs – varmt välkommen! \n\n\n\n**** \n\n\n\nTuntuuko välillä että energiatasosi on alhainen tai että olet stressaantunut? Kundaliinijooga on erinomainen työkalu stressinhallintaan\, energian palauttamiseen sekä sisäisen rauhan saavuttamiseen. Ei ole mitään vaikeata\, vaan tehdään harjoitukset yhdessä\, jokainen oman kykynsä mukaan. \n\n\n\nKundaliinijooga vahvistaa hermostoa\, tukee ruoansulatusta ja tasapainottaa hormonitoimintaa. Se vapauttaa fyysisiä ja henkisiä jumeja\, lisää voimaa ja joustavuutta sekä tuo elämään positiivisemman näkökulman. Enemmän energiaa\, vähemmän stressiä ja parempi uni. Aikaisempaa kokemusta ei tarvita – lämpimästi tervetuloa! \n\n\n\n***** \n\n\n\nDo you feel low in energy or stressed at times? Kundalini yoga is an excellent tool to reduce stress\, awaken energy within while finding inner calm. It’s not difficult at all. We do the exercises together\, each according to ones own ability. \n\n\n\nKundalini yoga strengthens the nervous system\, supports digestion\, and balances the hormonal system. It helps release both physical and mental blockages\, increases strength and flexibility\, and brings a more positive outlook on life. More energy\, less stress\, and better sleep. No previous experience is needed – warmly welcome! \n\n\n\nTisdagar / Tuesdays / Tiistaisin klo 18–19:30 until 31.5.2026 \n\n\n\nDrop in 15€ | 5x kort / card / kortti 65€ | 10x 120€ \n\n\n\nKnipnäs\, Linnunlaulu 1\, Tammisaari/ Fågelsången 1\, Ekenäs  \n\n\n\nNOTE: no class on the following days: 17.2. & 7.4. \n\n\n\nAbout me Anna Magnusson: I am a certified Kundalini yoga teacher\, and I have had classes at Lapinlahden Lähde and Kundaliinijooga Helsinki\, as well as at Knipnäs in Tammisaari/Ekenäs. After about 25 years of practicing different yoga methods I found Kundalini yoga\, and this was the method which resonated most to me. I am also a certified Somatic Therapist\, Health Coach and Reiki practitioner.  \n\n\n\nMy yoga classes are in English\, but I speak Swedish and Finnish as well. \n\n\n\nWelcome!  \n\n\nTakaisin kalenteriin
URL:https://knipnas.fi/tapahtuma/kundaliinijooga/
CATEGORIES:Jooga,Toistuvat
ATTACH;FMTTYPE=image/jpeg:https://knipnas.fi/wp-content/uploads/2026/02/Kundalini-Yoga-2026.jpg
END:VEVENT
BEGIN:VEVENT
DTSTART;TZID=Europe/Helsinki:20260227T160000
DTEND;TZID=Europe/Helsinki:20260301T140000
DTSTAMP:20260421T150023
CREATED:20251216T113538Z
LAST-MODIFIED:20251216T113539Z
UID:16643-1772208000-1772373600@knipnas.fi
SUMMARY:Kuolema · Seksi · Rakkaus -Retriitti
DESCRIPTION:Kuolema · Seksi · Rakkaus 27.2.-1.3.2026 \n\n\n\nViikonlopun mittainen seremoniallinen retriitti kutsuu sinut kulkemaan kolmen portin läpi. Jokainen portti avaa oven omaan todellisuuteensa. Portit ovat yhtä aikaa alku ja loppu. Tämä on matka\, johon valmistaudut ulkoisesti\, sisäisesti ja energiatasolla jo ennen kuin saavumme yhteen.  \n\n\n\nRetriitti on kokemuksellinen\, omakohtainen ja kollektiivinen. Tämä on matka aistien\, energian ja sisäisen totuuden kautta sanojen ulkopuolelle. \n\n\n\nKuolemaKuolema on oven sulkeminen ja avaaminen samassa liikkeessä. Kuolema on pimeä hiljaisuus\, joka nielee ja kantaa; se on huuto\, jossa kaikki olevainen on yhtäaikaa; se on hetki\, jossa jokin lakkaa olemasta ja muuttuu muuksi. Tällä retriitillä kuolema on syvää irtipäästämistä rooleista\, tarinoista ja itsestäsi sellaisena kuin olet luullut olevasi. Kun astut kuoleman portin läpi\, et voi ottaa mukaasi mitään turhaa – ja kuitenkin\, sen syvässä yössä odottaa uuden alku. Kuolema ei ole vain yksilöllinen\, vaan myös yhteinen. Kun kokoonnumme päästämään irti yhdessä\, avaamme kollektiivisen kerroksen: jokainen luopuminen resonoi toisen kanssa\, ja syntyy tila\, jossa yksityinen muuntuu yhteiseksi. Tämä on kuolema initiaationa\, jossa kaikki astumme lähemmäs samaa\, jaetun tyhjyyden ja uudestisyntymän syvää hiljaisuutta. \n\n\n\nSeksiSeksi on luomisvoiman ja tuhon liitto – se on se hetki\, kun elämä itse hengittää sinussa\, ja jokainen solu tietää olevansa elossa. Seksi ei ole pelkkää kehojen kohtaamista\, vaan se on energiaa\, joka virtaa yli rajojen\, muodottomana. Seksissä ei ole erillistä sinua ja minua\, on vain energia\, joka kulkee lävitsemme. Seksi on myös kollektiivinen virta\, eräänlainen yhteinen kudos\, jossa yksilöllinen halu liittyy johonkin paljon suurempaan. Kun avaudumme tälle kentälle\, kohtaamme sen\, että eroottinen voima ei ole yksityinen omaisuus\, vaan ihmiskuntaa kannatteleva elämänenergia. Se on sama virta\, joka on luonut meidät ja joka jatkaa luomistaan meidän kauttamme. Retriitillä kutsumme tämän kollektiivisen seksuaalisuuden esiin pyhänä\, jaettuna ja vapauttavana.  \n\n\n\nRakkausRakkaus on kaikesta riisuttu katse\, se on oleminen ilman suojia\, ilman naamioita\, ilman mitään miltä piiloutua. Rakkaus on se tila\, jossa mikään ei voi vahingoittaa\, koska mikään ei ole erillään. Rakkaus ei ole tunne\, vaan se on tila\, puhdas läsnäolo\, joka kantaa sinua kuoleman ja seksin myrskyjen läpi. Rakkaus ei tarvitse mitään\, eikä se menetä mitään. Rakkaus on myös kollektiivinen sydän\, joka sykkii meissä kaikissa. Kun yksi ihminen uskaltaa pudottaa naamionsa\, se avaa oven kaikille muillekin. Kun yksi seisoo rakkaudessa ilman suojia\, se luo kentän\, joka kantaa koko yhteisöä. Retriitillä emme kohtaa vain omaa kykyämme rakastaa\, vaan myös sen\, että rakkaus on olemassa meidän välillämme\, riippumatta siitä mitä ajattelemme tai tunnemme. Se on kollektiivinen koti\, johon palaamme yhä uudelleen. \n\n\n\nKenelle tämä retriitti on ja kenelle ei\n\n\n\nTämä retriitti ei ole pelkkä leikki eikä kevyt kokemus. Teemme voimakkaita harjoituksia\, jotka voivat koskettaa sinua fyysisesti\, emotionaalisesti\, energeettisesti ja psyykkisesti. Harjoitukset voivat ravistella sitä\, mikä on pysynyt piilossa\, ja nostaa pintaan sen\, minkä olet kenties halunnut unohtaa. Täällä kaikki kerrokset avautuvat: keho\, energia\, seksuaalisuus\, sydän ja mieli. \n\n\n\nSiksi on tärkeää\, että tulet paikalle sisäisesti vakaana ja riittävän levänneenä. Tämä retriitti ei sovi henkilöille\, joilla on vakavia mielenterveyden haasteita\, aktiivinen päihdeongelma tai jotka ovat uupumisen rajamailla. Nämä harjoitukset eivät tue\, jos elämäntilanne on jo valmiiksi liikaa kuormittava. \n\n\n\nRetriitti ei sovellu liikuntarajoitteisille. Työskentely tapahtuu kokonaan lattialla\, ja harjoitusten aikana ollaan pitkiä jaksoja istuen\, polvillaan tai makuulla.Tilassa ei ole esteettömiä ratkaisuja\, joten osallistuminen ei ole mahdollista pyörätuolia tai muita apuvälineitä käyttäville. \n\n\n\nMitä tarvitset mukaanPukeudu niin\, että kehosi ja mielesi tietävät astuneensa pyhään. Tarvitset mustat\, punaiset ja valkoiset vaatteet\, jokaiselle seremonialle omat. Tarvitset maskin tai puolimaskin\, jotta voit astua roolien ja kasvojen tuolle puolen. Tarvitset muistiinpanovälineet\, joihin talletat sen\, mitä et voi sanoa ääneen. Valmistaudu viikkoa ennen retriittiä: syö kevyesti\, jotta kehosi on kevyt ja virittynyt tätä matkaa varten. Puhdista mielesi ja avaa itsesi sille\, mikä on tulossa. Virittäydy energiatasolla kuin olisit astumassa kuoleman\, seksuaalisuuden ja rakkauden pyhään piiriin\, koska matkasi alkaa kun ilmoittaudut retriitille. \n\n\n\nRetriitti on sinullejos olet valmis katsomaan itseäsi ilman naamioita\, astumaan syvälle kuoleman irtipäästämiseen\, syttymään seksuaalisuuden virtaan ja astumaan rakkauden syleilyyn. Olet valmis ottamaan vastaan sen\, mitä matka sinussa avaa.\n\n\n\nOhjaaja Maria NalliKuljen työssäni kohti sitä\, mikä on totta\, kehollista ja syvältä kumpuavaa. Polkuni on alkanut tarpeesta kulkea aina vain sisemmäs\, sinne missä sanat eivät enää kanna ja missä kokemus muuttuu todemmaksi kuin yksikään määritelmä. Olen elänyt ja ohjannut prosesseja\, joissa turva\, kehollisuus ja syvä kuuntelu ovat kaiken perusta. Vuosien työ ihmisten tukemisessa traumaattisissa kriiseissä ja elämänmuutoksissa on opettanut minulle\, että todellinen transformaatio syntyy vasta\, kun uskallamme kohdata sen\, mikä on ollut piilossa\, ja antaudumme lempeästi kokemuksen läpi.\n\n\n\nViime vuosina oma matkani on kulkenut kohti sitä\, mikä on pyhää\, villiä ja alkukantaista. Olen oppinut kohtaamaan kuoleman hiljaisuuden tason\, jossa vanhat tarinat riisutaan pois ja sisäinen uudelleensyntyminen voi alkaa. Olen oppinut tuntemaan kollektiivisen seksuaalisuuden kerroksen\, jossa yksityinen halu liukenee yhteiseksi elämänvoimaksi. Olen oppinut astumaan rakkauden laajaan tilaan\, jossa itse ja toinen väistyvät ja jäljelle jää hiljainen voima\, joka kannattelee kaikkea. Samalla olen astunut yhä vahvemmin kuningattaren arkkityyppiin\, paikkaan\, jossa vastuu\, näkyvyys ja voima nousevat rakkaudesta eikä hallinnasta.\n\n\n\nTämä retriitti on ensimmäinen seremoniallinen retriittini\, ja se on syntynyt omasta sisäisestä prosessistani: kuolemasta vanhoihin tarinoihin\, astumisesta luomisvoiman virtaan ja seisomisesta rakkaudessa ilman suojia. Nyt avaan tämän tilan myös muille\, jotta voimme yhdessä kulkea näiden porttien läpi ja koskettaa sitä\, mikä on elämää syvempää.\n\n\n\nOlen kouluttautunut tantran ja kehollisen itseymmärryksen pariin erilaisten kurssien kautta\, mikä loi pohjan ohjaajuudelleni. Ohjaan Sun Vuosi -ryhmäprosessia ja toimin yhtenä konseptin perustajista. Koulutan integratiivisten tantristen ryhmäprosessien ohjaajia ja yksilövalmentajia (ITR) ja valmistuin keväällä 2025 sertifioiduksi Grof® Breathwork- ja psykedeeliterapian fasilitoijaksi (GLT). Tajunnan laajentaminen hengityksen avulla itsetutkiskelun ja parantumisen menetelmänä on luonnollinen osa työtäni\, jonka ytimessä on yhteyden\, totuuden ja transformaation värikkäimmät tasot.\n\n\n\nmarianalli.com@maria.n.nalli \n\n\n\nsunvuosi.fi Seremoniatilaa suojelevat ja sen eheyttä kannattelevat Rosa Passiniemi ja Mari B\, jotka toimivat tilan vartijoina\, energeettisen kudoksen tilanpitäjinä ja koko prosessin hiljaisena selkärankana. Heidän läsnäolonsa luo juuren\, vakauden ja näkymättömän turvan\, jotta osallistujat voivat asettua syvään kokemisen tilaan. \n\n\n\nMaria Rosa \n\n\n\nOlen ollut lähellä kuolemaa sekä sisäisesti\, että ulkoisesti niin monta kertaa\, että se on alkanut näyttäytyä opettajana\, joka johdattaa uudistumiseen ja rakkauteen. Olen menettänyt molemmat vanhempani kuolemalle liian varhain ja ollut itsekin joillakin reunoilla useampaan otteeseen. Näistä tapahtumista selviäminen on tehnyt minusta sen ihmisen\, joka olen tänä päivänä. Lisäksi sisäinen aalto joidenkin sisäisten osien kuolemisen ja syntymisen virrassa tuo elämään alati jatkuvan ekstaattisen virran. Elämä on jatkuva kuoleman temppeli\, jossa tulisi alati kysyä: Mikä tässä elämässä on tärkeää ja merkityksellistä? Minkä vuoksi kannattaa elää? Minulle sen merkityksen tuo rakkaus\, merkitykselliset ihmissuhteet\, suhde Äiti maahan ja ihmiskuntaan\, sekä työni turvan\, autenttisuuden ja rakkauden lisäämiseksi meissä jokaisessa.  \n\n\n\nKutsumustyössäni tantraohjaajana kutsun ihmisiä uudelleen ja uudelleen rakkauden ja kuoleman äärelle fragmentti- ja varjotyössä. Varjotyö voi todellakin tuntua kuolemalta. Se kuolema mitä tässä tarkoitetaan on persoonan osakuolema\, identiteetin muutos. Kuolema\, tunne kuolemisesta\, on oikeastaaan sitä\, että uskallamme antaa joidenkin osiemme kuolla tuntemalla ne kokonaan\, ihan kokonaan. Se tuntuu kuolemalle\, koska emme ole enää erillisiä niistä osista ja uskallamme vihdoin tuntea ne kokonaan pelkoineen ja kipuineen\, se on joskus pelottavaa. Mutta tunteminen tuo nämä osat takaisin kotiin rakkauteen ja vain niin voimme myös päästää niistä irti. Tätä osaa työstä ei voi paeta\, on pakko tuntea\, on otettava ne osat itseemme\, jotta voimme antaa niiden mennä.  \n\n\n\nOhjaan luomissani Jatkoluokka- ja Jatkumo-konsepteissa sekä mm. Loving Tantric Domination- ja muissa erillisissä työpajoissa. Tantraohjaamisen lisäksi minua elämässä kiehtoo vaimona\, äitinä ja rakastajana oleminen\, monisuhteisuus\, seksi ja seksuaalisuus\, henkisyys ja oma henkinen polku\, näkymaailmat\, kaiken tunteminen ja kaiken sisällyttäminen\, ihmiset ja ihmiskunta sekä Äiti Maa. \n\n\n\nMari B.  \n\n\n\nOlen Mari – kehollinen terapeutti\, tantraohjaaja ja kehotietoisten menetelmien kouluttaja. Minulla on pitkä kokemus työskentelystä vaikeissa ja haastavissa tilanteissa olevien ihmisten kanssa.  \n\n\n\nParas opettajani on aina ollut Elämä itse. Se on myös rakkain rinnallakulkijani. Kaikkein syvimmän ymmärryksen olen saanut kokemuksista\, jotka ovat pakottaneet pysähtymään kivun\, menetyksen ja muutoksen äärelle. Poikani kuolema on näyttänyt\, miten syvästi elämä voi muuttua hetkessä ja miten ainoa tapa olla kaiken kanssa\, on tunteminen. Tunteiden kanssa oleminen vie kohti sellaista viisautta\, mitä ei koskaan voi oppia missään koulussa tai mistään kirjoista. Kohti itseä. \n\n\n\nAmmennan voimani maasta\, luontoyhteydestä\, Gaian syvästä sylistä. Olen osa äiti Maan pulssia ja annan sen ilmentyä kauttani voimana ja herkkyytenä\, eroottisuutena\, valona ja varjona.  \n\n\n\nKuolema edustaa minulle syklisyyttä ja muutosta\, mahdollisuutta syntyä aina uudelleen. Se puoli elämästä tekee tilaa irtipäästämiselle\, antautumiselle ja uuden alkamiselle. Kuolema on viisas opettaja\, joka näyttää\, mikä todella merkitsee. \n\n\n\nMinulle kuolema on myös yhteyttä siihen\, mikä on minua suurempaa. Ja yhteyttä heihin\, jotka ovat kulkeneet edeltä. Kun suostuu katsomaan kuolemaa silmästä silmään\, avautuu tila\, jossa elämänvoima\, rakkaus ja toivo voivat virrata entistä kirkkaammin.www.maribee.fi@terapeutti.maribee \n\n\n\nIlmoittautuminenSähköpostilla  maria.nallilandia@gmail.com Saat laskun ohjauksesta sähköpostiin kahden arkipäivän sisällä. Maksettuasi laskun olet varannut paikkasi retriitillä.\n\n\n\nLisätietoja myös Facebook tapahtumassa: https://www.facebook.com/events/1376674544080884?active_tab=about\n\n\n\nHintaOhjaus:Osta heti! 75€ (sis alv. 25.5.%) 17.12.2025 saakka.Earlybird 125\,50€ (sis alv. 25.5.%) 31.1.2026 saakka.Hinta 175€ (sis alv. 25.5.%).Tukilippu 239€ (sis alv. 25.5.%)\n\n\n\nYlläpito: Knipnäsissä 195€ (sis alv. 14%) sisältäen majoituksen kahdeksi yöksi\, 6 kpl ruokailuja perjantain päivällisestä sunnuntain lounaaseen. Majoitus 3-4 hengen huoneissa. Omat lakanat ja pyyhe mukaan.1hh huoneita rajoitetusti\, josta lisämaksu 70€.Lasku ylläpidosta tulee lähempänä retriittiä. \n\n\n\nVuonna 2026\, hevosen vuonna\, retriitti avaa tilan liikkua syvällä sisäisessä viisaudessa\, päästää irti vanhasta ja astua uuteen vaiheeseen kuin hevonen laukkaa vapaana ja voimallisena polullaan. Tilaisuus avautuu kohdata kuolema\, seksi ja rakkaus kokonaisuutena\, jossa jokainen hetki tarjoaa mahdollisuuden sisäiseen uudistumiseen ja elämänvoiman vapaaseen virtaamiseen. Hevosen energia muistuttaa liikkeestä\, vapaudesta ja rohkeudesta päästää irti kuluneesta ja ottaa vastaan puhdas ja elinvoimainen tila. Retriitti tarjoaa pyhän ympäristön\, jossa keho\, mieli ja sydän voivat virrata luonnollisessa rytmissä\, kokea elävää yhteyttä itseensä ja ympäröivään maailmaan. \n\n\nTakaisin kalenteriin
URL:https://knipnas.fi/tapahtuma/kuolema-%c2%b7-seksi-%c2%b7-rakkaus-retriitti/
CATEGORIES:Retriitti,Tapahtuma
ATTACH;FMTTYPE=image/jpeg:https://knipnas.fi/wp-content/uploads/2025/12/Kuolema-Seksi-Rakkaus-2.jpg
END:VEVENT
BEGIN:VEVENT
DTSTART;TZID=Europe/Helsinki:20260313T170000
DTEND;TZID=Europe/Helsinki:20260315T160000
DTSTAMP:20260421T150023
CREATED:20251216T130016Z
LAST-MODIFIED:20251216T130018Z
UID:16666-1773421200-1773590400@knipnas.fi
SUMMARY:Pyhät Suhteet Tantrinen retriitti Ronski Koskyn ohjauksessa
DESCRIPTION:Pyhät Suhteet Tantrinen retriitti Ronski Koskyn ohjauksessa13.-15.3.2026 | Knipnäs\, Tammisaari \n\n\n\nTämä työpaja tukee syvempää ja rakastavampaa suhdetta itseesi sekä auttaa sinua luomaan merkityksellisiä ja täyttäviä yhteyksiä rakastajiin\, kumppaneihin\, ystäviin\, perheeseen ja työtovereihin. \n\n\n\nIhmissuhteet kukoistavat\, kun niissä on kunnioitusta\, rehellisyyttä\, avoimuutta\, osallisuutta\, uteliaisuutta\, nähdyksi tulemista\, arvostusta\, toisen arvon tunnistamista\, vahvistamista\, viisaita valintoja\, rakastavaa lempeyttä\, autonomiaa\, empaattista kuuntelua\, laadukasta vuorovaikutusta ja ihmissuhdetaitoja – kykyä nähdä kokonaisuus. Opit ja koet\, kuinka voit tuoda nämä teemat osaksi omaa elämääsi. \n\n\n\nTervetuloa mukaan viikonloppukurssisarjan toiseen osaan\, joka rakentaa läheisyyttä\, luottamusta\, intohimoa\, paranemista\, itsetuntemusta ja itsearvostusta. Tule kokemaan elämää muuttavia tantrisia harjoituksia\, jotka avaavat sydäntäsi\, auttavat sinua elämään linjassa todellisen tarkoituksesi kanssa ja vahvistavat sinua omalla polullasi. \n\n\n\nKenelle työpaja sopii: Tämä retriitti on avoin yksilöille\, pareille ja kaikille\, jotka haluavat tutkia tantran muuntavaa voimaa turvallisessa ja kannattelevassa ilmapiirissä. \n\n\n\nMitä voit odottaa: \n\n\n\n\nHarjoituksia\, jotka vahvistavat itsehoivaa ja rakastavaa lempeyttä itseäsi ja muita kohtaanRajojen asettamista ja viisaita valintoja\n\n\n\nLäheisyyden ja intiimiyden rakentamista ihmissuhteessa\n\n\n\nParityöskentelyä tunne- ja empatiayhteyden syventämiseksi\n\n\n\nVuorovaikutus- ja ihmissuhdetaitoja\n\n\n\nOhjattuja meditaatioita\, hengitysharjoituksia\, luovaa ilmaisua ja herkkää kosketusta mielen rauhoittamiseksi ja kehon maadoittamiseksi\n\n\n\nLiikumme ja tanssimme – leikimme ja pidämme hauskaa\n\n\n\nLempeää aamujogaa ja liikettä kehon ja hengen ravitsemiseksi\n\n\n\nRakastavien ihmissuhteiden vaalimista ja ylläpitämistä\n\n\n\nRituaaleja ja seremoniaa tukemaan sinua pyhällä matkallasi\n\n\n\n\nMatka alkaa oman pyhän sydämen turvapaikan löytämisestä ja kunnioittamisesta. \n\n\n\nIhmissuhde kukoistaa\, kun kaksi jokea kohtaavat\, kasvavat ja muistavat\, keitä he ovat yhdessä.Ronski \n\n\n\nTässä työpajassa tutkimme\, kuinka tehdä elämästäsi pyhä kokemus? Pyhyyden ruumiillistaminen ja omaksuminen on haaste\, jonka me kaikki kohtaamme. Kuinka olla täysin elossa\, elää intohimoisesti ja tarkoituksellisesti\, sydämemme sykkeen ollessa sopusoinnussa kauniin planeettamme luonnollisten rytmien kanssa? Työpajassa jatkamme oppimista kahdesta ensisijaisesta arkkityypistä\, jotka elävät jokaisen naisen ja miehen sisällä. Nämä arkkityypit\, jumalallinen feminiininen ja jumalallinen maskuliininen\, luovat yhdessä\, leikkivät yhdessä ja tekevät rakkautta. Nämä kauniit energiat tanssivat intiimiyttä ja ilmentävät pyhää liittoa\, eheyden ja ykseyden pyhää avioliittoa. Liity mukaan ja opi\, kuinka voit tehdä ihmissuhteistasi sekä pyhiä että nautinnollisia. \n\n\n\nAikataulu: Pe: 17:00–21:00\, La: 08:00–22:00 ja Su: 09:00–16:00 \n\n\n\nHinnat:Super Early Bird 15.1. saakka: 180€\, parit 160€/henkilöEarly Bird 15.2. saakka: 195 €/henkilö\, parit 175€/henkilöNormaali hinta: 230€/henkilö\, parit 200€/henkilöHinta sisältää 80 € varausmaksun\, jota ei palauteta\, mutta jonka voi sairastapauksessa siirtää toiselle henkilölle. Loppusumma maksetaan lähempänä tapahtumaa.Majoitus ja ruokailut: 199€/henkilö\, maksetaan suoraan Knipnäsiin. Pareille on oma huone\, 1hh 70€ lisämaksusta.  Paikkoja rajoitetusti!Kurssilla voidaan tulkata englannista suomeksi tarvittaessa.  \n\n\n\nLiput: Ilmoittautuminen ja lisätietoja: meandweflow(at)gmail.com 0405553271 / Marikahttps://www.meandwe.fi/event/sacred-relationships-tantric-retreat-with-ronski-kosky/ \n\n\n\nTämä työpaja on osa 4-osaisesta sarjasta:Pyhä Yhteys ~ Pyhä Suhde Pyhä Yhteys ~ Pyhä S€ksuaalisuusPyhä Yhteys ~ Elämäsi juhlan lähteenäPyhä Yhteys ~ Rakkaudellinen Lempeys \n\n\n\nRonski Kosky\, M.A.\, BSc: Ronski Kosky on syvästi arvostettu kansainvälinen tantran ja kehollisuuden opettaja\, jolla on yli 55 vuoden kokemus yksilöiden\, parien ja ryhmien ohjaamisesta eri puolilla maailmaa. Hänen taustansa ulottuu kouluista ja yliopistoista hoito- ja retriittikeskuksiin sekä henkisiin festivaaleihin – Kanadasta ja Havaijilta aina Eurooppaan saakka. Hän on pitkän linjan School of Temple Arts -yhteisön harjoittaja ja on pitänyt henkilökohtaisia sessioita yli 35 000 asiakkaalle sekä ohjannut työpajoja yli 100 000 osallistujalle. \n\n\n\nRonski tunnetaan intuitiivisesta kuuntelemisestaan ja elävästä\, maadoittuneesta läsnäolostaan\, joiden kautta hän inspiroi ja tukee ihmisiä heidän parantumismatkoillaan. Hänet tunnetaan myös sielukkaasta huumoristaan ja kyvystään luoda syvästi muuntavia tiloja\, jotka kutsuvat yhteyteen\, parantumiseen ja iloon. \n\n\n\nKansainvälisesti rikkaan elämänpolkunsa alussa Ronski opiskeli opettajaksi Lontoossa ja jatkoi uraansa Kanadassa ja Havaijilla. Hän on kokenut fasilitaattori\, elämänvalmentaja ja yhteisörakentaja\, joka tukee yksilöitä ja ryhmiä johtajuudessa\, yhteisöllisyydessä\, hyvinvoinnissa ja tantran hengellisissä arkipäivän käytännöissä. \n\n\n\nRonski opetti Suomessa ensimmäisen kerran 1980-luvulla ja on sen jälkeen palannut neljä kertaa. Nyt meillä on jälleen mahdollisuus kohdata hänen syvä\, rakastava ohjauksensa. Syksyn Rakkaudellinen Lempeys viikonloppu oli erittäin pidetty ja Ronskin kursseille toivottiin jatkoa. Lisätietoa: ronski-kosky.com \n\n\n\nMore info in English also: https://www.meandwe.fi/event/sacred-relationships-tantric-retreat-with-ronski-kosky/ \n\n\nTakaisin kalenteriin
URL:https://knipnas.fi/tapahtuma/pyhat-suhteet-tantrinen-retriitti-ronski-koskyn-ohjauksessa/
CATEGORIES:Retriitti,Tapahtuma
ATTACH;FMTTYPE=image/jpeg:https://knipnas.fi/wp-content/uploads/2025/12/Sacred-Relationships-Ronski-Kosky.jpg
END:VEVENT
BEGIN:VEVENT
DTSTART;TZID=Europe/Helsinki:20260320T180000
DTEND;TZID=Europe/Helsinki:20260322T170000
DTSTAMP:20260421T150023
CREATED:20251216T123648Z
LAST-MODIFIED:20251216T123649Z
UID:16659-1774029600-1774198800@knipnas.fi
SUMMARY:Tantrisen rakastelun kurssi 
DESCRIPTION:Tantrisen rakastelun kurssi  \n\n\n\n20.-22.3.2026 \n\n\n\nJoululahjatarjous: Kurssimaksusta yhteensä 60 € euron alennus\, jos ostat sen jouluun mennessä! \n\n\n\nhttps://www.facebook.com/events/25636626599288856 \n\n\n\nKurssilla teemme tantrisia harjoituksia\, jotka valmistavat tantriseen rakasteluun\, sekä ohjattuja rakastelumeditaatioita oman huoneen rauhassa. Opit rakastelemaan pidempään\, kierrättämään seksuaalienergiaa kehossa ja teidän välillänne sekä tutkimaan kosketuksen tapoja\, jotka sytyttävät kumppanisi syvimmin. Tutustumme myös ritualistiseen rakasteluun. \n\n\n\nTantrinen rakastelu avaa uuden näkökulman intiimiyteen ja voi herättää rakkauselämäänne lisää elävyyttä\, läheisyyttä ja hehkua. Kun seksuaalienergia virtaa\, koemme olevamme vahvemmin elossa\, inspiroituneita ja ravittuja. Tantrinen lähestymistapa huomioi erityisesti naisen kokonaisvaltaisesti ja voi avata myös mystisiä ja ykseyden kokemuksia. \n\n\n\nOsallistujapalaute:“Tämä viikonloppu muutti meitä molempia. Kun koimme kaiken yhdessä\, meistä tuli enemmän me. Kumppanini näki minut aivan uudessa valossa. Suuri kiitos merkittävästä viikonlopusta.” \n\n\n\nAiempi tantrakokemus ei ole välttämätöntä. Kurssi sisältää itsesäädeltävää alastomuutta/vähäpukeisuutta\, ja luomme turvallisen\, kunnioittavan ilmapiirin\, jossa voit avautua omaan tahtiisi. Kurssille tullaan oman kumppanin tai tantrisen ystävän kanssa – pareja ei vaihdeta. \n\n\n\nKurssia ohjaavat Maitri ja Simo\, kokeneet Tantric Life Coachit\, joilla on pitkä ja monipuolinen tausta tantrasta\, seksuaalisuuden ja läsnäolon ohjaamisesta sekä parien kanssa työskentelystä. Ohjaus on lempeää\, turvallista ja syvällistä. \n\n\n\nHinta:290 € / hlö + majoitus & täysihoito 195 € / hlöKertaajille 190 € / hlö + majoitus & täysihoito 195 € / hlöYhdelle vähävaraiselle parille –50 % kurssimaksusta (hakemuksella) \n\n\n\n👉 Ilmoittautuminen: https://bit.ly/trk0326Lisätiedot: maitrijoogini@gmail.com\, 040 777 3236 (Maitri) \n\n\n\n \n\n\nTakaisin kalenteriin
URL:https://knipnas.fi/tapahtuma/tantrisen-rakastelun-kurssi-3/
CATEGORIES:Retriitti,Tapahtuma
ATTACH;FMTTYPE=image/jpeg:https://knipnas.fi/wp-content/uploads/2025/12/Tantrisen-rakastelun-kurssi.jpg
END:VEVENT
BEGIN:VEVENT
DTSTART;TZID=Europe/Helsinki:20260327T183000
DTEND;TZID=Europe/Helsinki:20260329T170000
DTSTAMP:20260421T150023
CREATED:20251216T124130Z
LAST-MODIFIED:20251222T074902Z
UID:16663-1774636200-1774803600@knipnas.fi
SUMMARY:Tantramatka 1
DESCRIPTION:Tantramatka 2026 alkaa! Vapauta alkuvoimasi ja antaudu aistien nautinnolle\, elämänilolle ja rakkaudelle itseäsi ja muita kohtaan.  \n\n\n\nTantramatka 1: Alkuvoima ja Aistillisuus 27-29.3.2026 Knipnäs Hyvän olon keskus\, Tammisaari  \n\n\n\n✨Kohtaa itsesi ja toiset aidosti ja ilman naamioita.  \n\n\n\n✨Avaudu elinvoimallesi kaikilla elämäsi osa-alueilla.  \n\n\n\n✨Vahvista kykyäsi kokea aistillisuutta ja aistinautintoja  \n\n\n\n✨ Pääset kehittymään henkilökohtaisella\, seksuaalisella ja henkisellä matkallasi.  \n\n\n\nVapautamme luonnollisen elinvoiman\, kun poistamme turhat esteet ja tukokset.  \n\n\n\nTutustumme tunteisiimme ja ymmärrämme niiden olevan polttoainetta elinvoimallemme.  \n\n\n\nNautimme elämästä ja juhlistamme sitä.  \n\n\n\nOpimme olemaan avoimia ja joustavia. Olemme valmiita positiivisiin elämänmuutoksiin ja todelliseen transformaatioon.  \n\n\n\nKurssit ovat avoinna sinkuille ja pareille. Parin kanssa tulevat\, voivat tehdä kaikki pariharjoitukset oman kumppanin kanssa.  \n\n\n\nHarjoitukset sisältävät liikettä\, ääntä\, hengitystä\, meditaatioita\, tanssia\, tunneilmaisua\, aistiharjoituksia\, hierontaa\, tantrisia rituaaleja ja herättävää keskustelua sydämellisessä ja arvostavassa ilmapiirissä.  \n\n\n\nHinta: 320€ + ruoka ja majoitus 195€ \n\n\n\nLisätiedot ja ilmoittautuminen:  Kirsti Kuosmanen https://kirstikuosmanen.com/tantramatka/ \n\n\nTakaisin kalenteriin
URL:https://knipnas.fi/tapahtuma/tantramatka-2026/
CATEGORIES:Retriitti,Tapahtuma
ATTACH;FMTTYPE=image/jpeg:https://knipnas.fi/wp-content/uploads/2025/12/Tantramatka-2.jpg
END:VEVENT
END:VCALENDAR