BEGIN:VCALENDAR
VERSION:2.0
PRODID:-//Knipnäs Gård - ECPv6.15.20//NONSGML v1.0//EN
CALSCALE:GREGORIAN
METHOD:PUBLISH
X-WR-CALNAME:Knipnäs Gård
X-ORIGINAL-URL:https://knipnas.fi
X-WR-CALDESC:Tapahtumat Knipnäs Gård
REFRESH-INTERVAL;VALUE=DURATION:PT1H
X-Robots-Tag:noindex
X-PUBLISHED-TTL:PT1H
BEGIN:VTIMEZONE
TZID:Europe/Helsinki
BEGIN:DAYLIGHT
TZOFFSETFROM:+0200
TZOFFSETTO:+0300
TZNAME:EEST
DTSTART:20250330T010000
END:DAYLIGHT
BEGIN:STANDARD
TZOFFSETFROM:+0300
TZOFFSETTO:+0200
TZNAME:EET
DTSTART:20251026T010000
END:STANDARD
BEGIN:DAYLIGHT
TZOFFSETFROM:+0200
TZOFFSETTO:+0300
TZNAME:EEST
DTSTART:20260329T010000
END:DAYLIGHT
BEGIN:STANDARD
TZOFFSETFROM:+0300
TZOFFSETTO:+0200
TZNAME:EET
DTSTART:20261025T010000
END:STANDARD
BEGIN:DAYLIGHT
TZOFFSETFROM:+0200
TZOFFSETTO:+0300
TZNAME:EEST
DTSTART:20270328T010000
END:DAYLIGHT
BEGIN:STANDARD
TZOFFSETFROM:+0300
TZOFFSETTO:+0200
TZNAME:EET
DTSTART:20271031T010000
END:STANDARD
END:VTIMEZONE
BEGIN:VEVENT
DTSTART;TZID=Europe/Helsinki:20260206T180000
DTEND;TZID=Europe/Helsinki:20260208T170000
DTSTAMP:20260421T182139
CREATED:20251216T115912Z
LAST-MODIFIED:20251216T115913Z
UID:16653-1770400800-1770570000@knipnas.fi
SUMMARY:Rakkauden ja läsnäolon viikonloppu - tantraa pareille
DESCRIPTION:Rakkauden ja läsnäolon viikonloppu – tantraa pareille 6.-8.2.2026 \n\n\n\nTule viettämään kokonainen viikonloppu tantristen harjoitteiden parissa\, kauniissa ympäristössä\, antaen laatuaikaa suhteellenne! Tämä kurssi sopii kaikille\, niin aloittelijoille kuin kokeneemmillekin tantrikoille.​Toimivan suhteen peruskiviä ovat emotionaalinen turvallisuus\, luottamus\, yhteyden kokeminen\, kunnioitus ja eroottinen yhteys. Olemme näiden kaikkien äärellä viikonlopun ajan. \n\n\n\n​Teemme erilaisia ihania tantrisia harjoitteita\, kuten koskettamista\, läsnäolon harjoittamista toisen kanssa\, jakamista ja kuuntelemista sydämestä käsin\, rentoutumista yhdessä. Tutkimme rakkauden eri ilmentämistapoja ja sitä\, millä tavoin koemme itse rakkauden ja miten kumppanimme kokee sen. Teemme myös joitakin hieman eroottissävyisiä harjoituksia kurssin aikana. \n\n\n\nHarjoittelemme koskettamaan kumppaniamme erilaisin tavoin\, syventämään yhteyttä hänen kanssaan\, lisäämään kunnioitusta ja ihailua sekä vetovoimaa välillänne. Opimme olemaan sensuaalisuuden\, herkkyyden ja hienovaraisuuden äärellä koskettaessa toista ja ymmärrämme niiden merkityksen tantrassa sekä myös tantrisessa rakastelussa. Harjoittelemme tunnistamaan\, mistä toinen pitää kosketettaessa ja opettelemme myös kertomaan mieltymyksiämme toiselle turvallisesti. Tutkimme lisäksi energiankierrättämisen mahdollisuuksia. Tällä kurssilla ei kuitenkaan mennä syvällisesti tantriseen rakasteluun aiheena/harjoituksina\, sillä sitä varten on omat erilliset kurssinsa. \n\n\n\n​Kaikki kurssin harjoitukset voi tehdä vaatteet päällä tai halutessaan voi myös vähentää vaatetusta (lähinnä kosketusharjoituksissa). Harjoitukset tehdään vain oman kumppanin kanssa.​Viikonlopun aikana teillä on paljon aikaa uppoutua toisiinne\, koskettaa ja olla lähellä\, löytää tai voimistaa kipinää välillänne\, kokea rakkaudellisia kokemuksia ja ihanaa rentoutta sekä läsnäoloa itsessänne ja yhdessä toistenne kanssa.​Voitte ottaa viikonlopun leppoisana toistenne äärelle asettumisen aikana ja myös tutkia suhdettanne uusin tavoin ja silmin.​Aloitamme aamut kaikille sopivilla lempeillä jooga- ja läheisyysharjoituksilla. Aamun kruunaa herkullinen aamupala. Nautimme kurssin aikana maukasta kasvisruokaa. Knipnäsin ympäristö ja rakennukset ovat viehättäviä ja jokaiselle parille on varattu oma huoneensa. Knipnäsissä on myös mahdollisuus pulahtaa meren virkistäviin aaltoihin.​Kurssihinta 215e/hlö + majoitus- ja ruokamaksu 195 e/hlö\, yht.410 e/hlö\, joka laskutetaan erikseen kahdessa osassa.​Kurssin ohjaa kokenut tantrika\, lämmin ja lempeä Maitri\, joka on koulutettu Tantric life coach ja seksuaalineuvoja. Jos herää jotain kysyttävää\, ota yhteyttä matalalla kynnyksellä: maitrijoogini@gmail.com\, 040 7773236 (laita ensin viesti ja sovi soittoaika).​Ilmoittautumiset: maitrijoogini@gmail.com\, 040 7773236 (laita ensin viesti ja sovi soittoaika).  \n\n\n\nLisätietoja kurssista: www.maitritantrika.com/kurssit \n\n\n\nFacebook tapahtumassa lisätietoja: https://www.facebook.com/search/top?q=rakkauden%20ja%20läsnäolon%20viikonloppu%20-%20tantraa%20pareille%20 \n\n\n\n \n\n\nTakaisin kalenteriin
URL:https://knipnas.fi/tapahtuma/rakkauden-ja-lasnaolon-viikonloppu-tantraa-pareille/
CATEGORIES:Retriitti,Tapahtuma
ATTACH;FMTTYPE=image/jpeg:https://knipnas.fi/wp-content/uploads/2025/12/798AADD5-601B-4BF6-A296-031369127CAF.jpeg
END:VEVENT
END:VCALENDAR