BEGIN:VCALENDAR
VERSION:2.0
PRODID:-//Knipnäs Gård - ECPv6.15.20//NONSGML v1.0//EN
CALSCALE:GREGORIAN
METHOD:PUBLISH
X-WR-CALNAME:Knipnäs Gård
X-ORIGINAL-URL:https://knipnas.fi
X-WR-CALDESC:Tapahtumat Knipnäs Gård
REFRESH-INTERVAL;VALUE=DURATION:PT1H
X-Robots-Tag:noindex
X-PUBLISHED-TTL:PT1H
BEGIN:VTIMEZONE
TZID:Europe/Helsinki
BEGIN:DAYLIGHT
TZOFFSETFROM:+0200
TZOFFSETTO:+0300
TZNAME:EEST
DTSTART:20250330T010000
END:DAYLIGHT
BEGIN:STANDARD
TZOFFSETFROM:+0300
TZOFFSETTO:+0200
TZNAME:EET
DTSTART:20251026T010000
END:STANDARD
BEGIN:DAYLIGHT
TZOFFSETFROM:+0200
TZOFFSETTO:+0300
TZNAME:EEST
DTSTART:20260329T010000
END:DAYLIGHT
BEGIN:STANDARD
TZOFFSETFROM:+0300
TZOFFSETTO:+0200
TZNAME:EET
DTSTART:20261025T010000
END:STANDARD
BEGIN:DAYLIGHT
TZOFFSETFROM:+0200
TZOFFSETTO:+0300
TZNAME:EEST
DTSTART:20270328T010000
END:DAYLIGHT
BEGIN:STANDARD
TZOFFSETFROM:+0300
TZOFFSETTO:+0200
TZNAME:EET
DTSTART:20271031T010000
END:STANDARD
END:VTIMEZONE
BEGIN:VEVENT
DTSTART;TZID=Europe/Helsinki:20260109T163000
DTEND;TZID=Europe/Helsinki:20260111T153000
DTSTAMP:20260423T011429
CREATED:20251216T112753Z
LAST-MODIFIED:20251216T112755Z
UID:16640-1767976200-1768145400@knipnas.fi
SUMMARY:Valon vuosi 2026 -retriitti
DESCRIPTION:Valon vuosi 2026 -retriitti \n\n\n\npe 9.1. kello 16.30 – su 11.1.2026 kello 15.30Knipäs Hyvän olon keskus\, Tammisaari \n\n\n\nAstu Valon vuoteen 2026 tietoisesti ja sydämestä käsin. \n\n\n\nKehto Koulun kaksipäiväinen vuodenavausretriitti kutsuu sinut viisaaseen rauhoittumiseen\, tutkimiseen ja valon teeman äärelle. Tämä viikonloppu on pysähtymisen ja virittäytymisen tila ja mahdollisuus avautua sille\, mikä elämässäsi haluaa nyt tulla näkyväksi ja todeksi. \n\n\n\nRetriitin aikana asetumme yhdessä hoitavaan rytmiin\, jossa keho saa hengittää\, mieli selkeytyä ja sydän avautua uudelle. Harjoitusten kautta vahvistamme yhteyttä uuteen vuoteen\, valoon\, joka on jokaisessa meissä – muuttumattomana ja totena. \n\n\n\nOhjelma:Ohjelma koostuu kundaliinijoogasta\, dynaamisista meditaatioista\, Gong-rentoutuksesta\, Vuoden avaus -rituaalista\, itsereflektiivisistä harjoituksista sekä yhteisestä läsnäolosta. \n\n\n\nSyvennymme myös voimalliseen rebirthing-harjoitukseen kundaliinijoogaperinteestä – hengityksen kautta tapahtuvaan uudestisyntymisen prosessiin\, jossa vanha saa hellittää ja uusi voi astua esiin. Hoitavat mantrat ja yhteinen ääni kannattelevat matkaa. \n\n\n\nKehto Koulun vuodenavausretriitti on kutsu:– kuulla\, mitä elämä sinulta nyt pyytää– avata Valon vuoden alku sisäisestä oivalluksesta käsin– antaa sydämellesi tilaa kirkastua ja vastaanottaa– levätä olemisen pyhyydessä ja yhteydessä toisiin etsijöihin \n\n\n\nRetriitti tarjoaa mahdollisuuden uudistua syvästi – ei vain tavoitteita varten\, vaan elämän syvemmän rytmin kanssa yhteydessä. \n\n\n\nOhjaajat: Retriittiä ohjaavat Emilia Jagat Prem ja Tommi Charanpal\, Kehto Koulun perustajat ja henkisen matkan opettajat.Heidän työnsä perustuu kuuntelevaan läsnäoloon\, kehotietoisuuteen ja siihen elämänmakuiseen ymmärrykseen\, että todellinen kasvu syntyy sisältäpäin. \n\n\n\nPaikka: Retriitti järjestetään Knipnäs Hyvän olon keskuksessa Tammisaaressa – valon\, hiljaisuuden ja korkean värähtelyn tilassa.Nautimme viikonlopun aikana ravitsevaa kasvisruokaa ja lauantai-iltana kokoonnumme vuodenavausrituaaliin Knipnäsin temppelitiloissa\, avaamaan uuden vuoden tietoisesti ja pyhästi. \n\n\n\nAika: pe 9.1. kello 16.30 – su 11.1.2026 kello 15.30Paikka: Knipäs Hyvän olon keskus\, TammisaariHinta: 450 euroa (sis alv.) sisältäen ohjelman\, majoituksen ryhmähuoneissa ja täysihoidon. Joitain 1hh huoneita saatavilla 80 euron lisämaksusta.Ilmoittautumiset ja lisätiedot: Emilia Vasko-Kujala (Jagat Prem) Kehto Koulu\, emilia@kehtokoulu.fi / puh. 050 3050 53. \n\n\n\nLämpimästi tervetuloa! SAT NAM. \n\n\nTakaisin kalenteriin
URL:https://knipnas.fi/tapahtuma/valon-vuosi-2026-retriitti/
CATEGORIES:Retriitti,Tapahtuma
ATTACH;FMTTYPE=image/jpeg:https://knipnas.fi/wp-content/uploads/2025/12/Kehtokoulu-Valon-vuosi-2026.jpeg
END:VEVENT
BEGIN:VEVENT
DTSTART;TZID=Europe/Helsinki:20260110T120000
DTEND;TZID=Europe/Helsinki:20260125T150000
DTSTAMP:20260423T011429
CREATED:20260109T084951Z
LAST-MODIFIED:20260109T092144Z
UID:16679-1768046400-1769353200@knipnas.fi
SUMMARY:Berättelser från Kalevala - Kirsti Kuusela
DESCRIPTION:Berättelser från Kalevala – sarjakuvanäyttely Knipnäsissä \n\n\n\nKirsti Kuuselan Berättelser från Kalevala -sarjakuvanäyttely tuo Knipnäsiin suomalaisen kulttuuriperinteen ja nykyaikaisen sarjakuvataiteen ainutlaatuisella tavalla yhdistävän kokonaisuuden. Näyttelyn keskiössä on sarjakuvateoskokoelma\, jossa yksi Kalevalan tarina on kerrottu kokonaisuudessaan kuvallisesti – kohtaus kohtaukselta\, myyttistä maailmaa ja tarinan kulkua seuraten. \n\n\n\nSarjakuvateos tarjoaa uuden ja visuaalisesti rikkaan tavan lähestyä Kalevalaa. Hahmot\, tapahtumat ja maailmat heräävät eloon elävissä ja yksityiskohtaisissa kuvissa\, ja sarjakuvamuoto tekee kansalliseepoksesta helposti lähestyttävän myös uusille yleisöille. Teos on syntynyt useiden vuosien työn tuloksena ja koottu kirjaksi Berättelser från Kalevala. Teoskokoelma on ollut esillä useissa Ruotsin kirjastoissa ja kulttuuritaloissa\, ja Knipnäsin näyttely on sen ensimmäinen esittäytyminen Suomessa. \n\n\n\nNäyttelykokemusta täydentää erillinen kokoelma Kirsti Kuuselan brodeerauksia. Brodeerauksissa taiteilija käyttää kierrätettyjä materiaaleja ja ammentaa inspiraatiota luonnosta. Ne tuovat näyttelyyn lisää kerroksellisuutta ja korostavat taiteilijan monipuolista ilmaisua. \n\n\n\nTaiteilijasta:Kirsti Kuusela on Göteborgissa asuva ruotsinsuomalainen taiteilija ja sosiologi. Hän on kouluttautunut taiteen ja grafiikan alalla sekä opiskellut sosiaalitieteitä. Uransa aikana hän on toiminut tutkijana\, opettajana ja projektityöntekijänä Ruotsissa muun muassa yliopistoissa ja kansainvälisissä hankkeissa. Kuvataide on kulkenut tutkimustyön rinnalla koko hänen uransa ajan. Useiden vuosien työ Kalevalan parissa johti sarjakuvakirjan syntymiseen. Projekti alkoi\, jotta Kalevalan tapahtumat olisi helpompi ymmärtää ja muistaa\, ja se tarjoaa visuaalisen tavan kokea kansalliseepoksen tarina kokonaisuutena. \n\n\n\nNäyttely avoinna:  \n\n\n\n10.–11.1.2026\, la–su klo 12–15 \n\n\n\n17.-18.1.2026\, la–su klo 12–15 \n\n\n\n24.-25.1.2026 la–su klo 12–15 \n\n\n\nPaikka: Knipnäs\, Linnunlaulu 1\, TammisaariVapaa pääsy \n\n\n\nJärjestäjä ja yhteystiedot:Marja-Liisa Lehtopuh. +358 45 206 3324marja-liisa.lehto@2me.fi \n\n\n\nBerättelser från Kalevala – serietidningsutställning i Knipnäs \n\n\n\nSerietidningsutställningen Berättelser från Kalevala av Kirsti Kuusela presenterar en unik helhet där det finska kulturarvet möter samtida seriekonst. I centrum står en sammanhängande serietidningssvit där en Kalevalaberättelse återges i sin helhet i bildform. \n\n\n\nVerket erbjuder ett nytt och visuellt rikt sätt att närma sig Kalevala. Berättelsens gestalter\, händelser och världar framträder i levande och detaljerade bilder\, och serieformen gör nationaleposet mer tillgängligt även för nya besökare. Bildsviten är resultatet av ett mångårigt arbete och har sammanställts i boken Berättelser från Kalevala. Utställningen har tidigare visats på bibliotek och kulturhus runt om i Sverige\, och presentationen i Knipnäs är dess första i Finland. \n\n\n\nUtställningen kompletteras av en separat samling broderier av Kirsti Kuusela\, skapade av återvunnet material med naturen som inspirationskälla. Dessa verk tillför ytterligare lager till helhetsupplevelsen och visar konstnärens mångsidiga uttryck. \n\n\n\nOm konstnären:Kirsti Kuusela är en i Göteborg bosatt sverigefinsk konstnär och sociolog. Hon har utbildat sig inom konst och grafik samt studerat samhällsvetenskaper. Under sin yrkesverksamma tid har hon arbetat som forskare\, lärare och projektarbetare i Sverige\, bland annat vid universitet och inom internationella projekt. Bildkonsten har följt henne parallellt med forskningsarbetet genom hela karriären. Det långvariga arbetet med Kalevala ledde till serieboken Berättelser från Kalevala. Projektet inleddes för att göra Kalevalas händelser lättare att förstå och minnas\, och erbjuder ett visuellt sätt att uppleva nationaleposets berättelse som helhet. \n\n\n\nUtställningen öppen:  \n\n\n\n10.–11.1.2026\, lö–sö kl. 12–15 \n\n\n\n17.-18.1.2026\, lö–sö kl. 12–15 \n\n\n\n24.-25.1.2026\, lö–sö kl. 12–15 \n\n\n\nPlats: Knipnäs\, Fågelsången 1\, EkenäsFri entré \n\n\n\nArrangör och kontaktuppgifter:Marja-Liisa Lehtotel. +358 45 206 3324marja-liisa.lehto@2me.fi \n\n\nTakaisin kalenteriin
URL:https://knipnas.fi/tapahtuma/berattelser-fran-kalevala-kirsti-kuusela/
CATEGORIES:Näyttely,Tapahtuma
ATTACH;FMTTYPE=image/jpeg:https://knipnas.fi/wp-content/uploads/2026/01/Berattelser-fran-Kalevala-nayttely.jpg
END:VEVENT
END:VCALENDAR